BEGIN:VCALENDAR
VERSION:2.0
PRODID:-//Squarespace Inc/Squarespace 6//v6//EN
BEGIN:VEVENT
UID:599513ef46c3c47a26952c0a@squarespace.com
DTSTAMP:20170817T035843Z
DTSTART:20170817T040000Z
DTEND:20170817T050000Z
SUMMARY:Website launch
END:VEVENT
END:VCALENDAR
